Workbook

Sheet Step 1 Capacity
B1: Gross Profit Man Day / Crew Day
B2: Step 1 Labor / Crew Capacity
B3: @Larkin
C4: Fill in the data in the beige box
B6: 2 | C6: # of crews
B8: #of work days in a year
B9: 52 | C9: Weeks in a year
B10: 2 | C10: Average weeks vacation ( 2 weeks average)
B11: =B9-B10 -> 50 | C11: # work weeks in a year
B12: 6 | C12: Holidays (6 avg)
B14: =+(B11*5)-B12 -> 244 | C14: Number of work days (5 days a week Saturdays considered free)
B16: =B14*B6 -> 488 | C16: Crew days available to sell (Capacity)
C18: Number of Crew days sold last year
B20: 317 | C20: Target number of crew days filled
B22: =B20/B16 -> 0.64959016 | C22: Capacity target %
B24: =B16-B20 -> 171 | C24: # of available crew days that will go unfilled

Sheet Step 2 Budget  Plan
A1: Gross Profit Man Day / Crew Day
A2: @Larkin
A3: Step 2 Budget / Installation /AOR profit plan
A4: You need to complete the budget below, use your past numbers as a guide. Consider what will be different this Jan (for example) than Jan last year.
A5: This budget is for the installation department only in a fully departmentalized Profit and Loss statement.
B6: Fill in the data in the beige box
A8: January | B8: Revenue (Sales) | C8: Gross Profit * $ | D8: Overhead* $ | E8: Net Profit (EBITA) $ | F8: Required Gross Profit $ *
A9: Last Year | E9: =C9-D9 -> 0 | F9: N/A
A10: This Year | B10: 150000 | C10: 50000 | D10: 35000 | E10: =C10-D10 -> 15000 | F10: =D10+E10 -> 50000 | G10: =F10/F58 -> 0.067114094
A12: February | B12: Revenue (Sales) | C12: Gross Profit * $ | D12: Overhead* $ | E12: Net Profit (EBITA) $ | F12: Required Gross Profit $ *
A13: Last Year | E13: =C13-D13 -> 0 | F13: N/A
A14: This Year | B14: 130000 | C14: 42000 | D14: 35000 | E14: =C14-D14 -> 7000 | F14: =D14+E14 -> 42000 | G14: =F14/F58 -> 0.056375839
A16: March | B16: Revenue (Sales) | C16: Gross Profit * $ | D16: Overhead* $ | E16: Net Profit (EBITA) $ | F16: Required Gross Profit $ *
A17: Last Year | E17: =C17-D17 -> 0 | F17: N/A
A18: This Year | B18: 160000 | C18: 50000 | D18: 35000 | E18: =C18-D18 -> 15000 | F18: =D18+E18 -> 50000 | G18: =F18/F58 -> 0.067114094
A20: April | B20: Revenue (Sales) | C20: Gross Profit * $ | D20: Overhead* $ | E20: Net Profit (EBITA) $ | F20: Required Gross Profit $ *
A21: Last Year | E21: =C21-D21 -> 0 | F21: N/A
A22: This Year | B22: 180000 | C22: 55000 | D22: 42000 | E22: =C22-D22 -> 13000 | F22: =D22+E22 -> 55000 | G22: =F22/F58 -> 0.073825503
A24: May | B24: Revenue (Sales) | C24: Gross Profit * $ | D24: Overhead* $ | E24: Net Profit (EBITA) $ | F24: Required Gross Profit $ *
A25: Last Year | E25: =C25-D25 -> 0 | F25: N/A
A26: This Year | B26: 250000 | C26: 85000 | D26: 45000 | E26: =C26-D26 -> 40000 | F26: =D26+E26 -> 85000 | G26: =F26/F58 -> 0.11409396
A28: June | B28: Revenue (Sales) | C28: Gross Profit * $ | D28: Overhead* $ | E28: Net Profit (EBITA) $ | F28: Required Gross Profit $ *
A29: Last Year | E29: =C29-D29 -> 0 | F29: N/A
A30: This Year | B30: 290000 | C30: 115000 | D30: 45000 | E30: =C30-D30 -> 70000 | F30: =D30+E30 -> 115000 | G30: =F30/F58 -> 0.15436242
A32: July | B32: Revenue (Sales) | C32: Gross Profit * $ | D32: Overhead* $ | E32: Net Profit (EBITA) $ | F32: Required Gross Profit $ *
A33: Last Year | E33: =C33-D33 -> 0 | F33: N/A
A34: This Year | B34: 280000 | C34: 98000 | D34: 46000 | E34: =C34-D34 -> 52000 | F34: =D34+E34 -> 98000 | G34: =F34/F58 -> 0.13154362
A36: August | B36: Revenue (Sales) | C36: Gross Profit * $ | D36: Overhead* $ | E36: Net Profit (EBITA) $ | F36: Required Gross Profit $ *
A37: Last Year | E37: =C37-D37 -> 0 | F37: N/A
A38: This Year | B38: 250000 | C38: 80000 | D38: 46000 | E38: =C38-D38 -> 34000 | F38: =D38+E38 -> 80000 | G38: =F38/F58 -> 0.10738255
A40: September | B40: Revenue (Sales) | C40: Gross Profit * $ | D40: Overhead* $ | E40: Net Profit (EBITA) $ | F40: Required Gross Profit $ *
A41: Last Year | E41: =C41-D41 -> 0 | F41: N/A
A42: This Year | B42: 160000 | C42: 48000 | D42: 35000 | E42: =C42-D42 -> 13000 | F42: =D42+E42 -> 48000 | G42: =F42/F58 -> 0.06442953
A44: October | B44: Revenue (Sales) | C44: Gross Profit * $ | D44: Overhead* $ | E44: Net Profit (EBITA) $ | F44: Required Gross Profit $ *
A45: Last Year | E45: =C45-D45 -> 0 | F45: N/A
A46: This Year | B46: 150000 | C46: 45000 | D46: 35000 | E46: =C46-D46 -> 10000 | F46: =D46+E46 -> 45000 | G46: =F46/F58 -> 0.060402685
A48: November | B48: Revenue (Sales) | C48: Gross Profit * $ | D48: Overhead* $ | E48: Net Profit (EBITA) $ | F48: Required Gross Profit $ *
A49: Last Year | E49: =C49-D49 -> 0 | F49: N/A
A50: This Year | B50: 150000 | C50: 42000 | D50: 35000 | E50: =C50-D50 -> 7000 | F50: =D50+E50 -> 42000 | G50: =F50/F58 -> 0.056375839
A52: December | B52: Revenue (Sales) | C52: Gross Profit * $ | D52: Overhead* $ | E52: Net Profit (EBITA) $ | F52: Required Gross Profit $ *
...

Sheet Step 3 GPMD
B1: Gross Profit Man Day / Crew Day
B2: @Larkin | C2: Fill in the data in the beige box
B4: ='Step 2 Budget Plan'!F58/'Step 1 Capacity'!B20 -> 2350.1577 | C4: Gross Profit per Man / Crew Day
C6: Mix of Jobs | D6: Jobs
B7: 0.9 | C7: Full day jobs | D7: ='Step 1 Capacity'!B20*'Step 3 GPMD'!B7 -> 285.3
B8: 0.1 | C8: 1/2 day jobs | D8: =('Step 1 Capacity'!B20-'Step 3 GPMD'!D7)/0.5 -> 63.4
B9: =B7+B8 -> 1 | C9: Total | D9: =D7+D8 -> 348.7
B11: 0.5 | C11: Target close rate
C13: Required Leads / Proposals | D13: Jobs | E13: Weeks | F13: Jobs per Week | G13: Jobs per Day *
B14: Year | C14: =D9/B11 -> 697.4 | D14: =D9 -> 348.7 | E14: 52 | F14: =D14/E14 -> 6.7057692 | G14: =F14/5 -> 1.3411538
B15: Jan | C15: =C14*'Step 2 Budget Plan'!G10 -> 46.805369 | D15: =D14*'Step 2 Budget Plan'!G10 -> 23.402685 | E15: 4 | F15: =D15/E15 -> 5.8506711 | G15: =F15/5 -> 1.1701342
B16: Feb | C16: =C14*'Step 2 Budget Plan'!G14 -> 39.31651 | D16: =D14*'Step 2 Budget Plan'!G14 -> 19.658255 | E16: 4 | F16: =D16/E16 -> 4.9145638 | G16: =F16/5 -> 0.98291275
B17: Mar | C17: =C14*'Step 2 Budget Plan'!G18 -> 46.805369 | D17: =D14*'Step 2 Budget Plan'!G18 -> 23.402685 | E17: 4 | F17: =D17/E17 -> 5.8506711 | G17: =F17/5 -> 1.1701342
B18: Apr | C18: =C14*'Step 2 Budget Plan'!G22 -> 51.485906 | D18: =D14*'Step 2 Budget Plan'!G22 -> 25.742953 | E18: 4 | F18: =D18/E18 -> 6.4357383 | G18: =F18/5 -> 1.2871477
B19: May | C19: =C14*'Step 2 Budget Plan'!G26 -> 79.569128 | D19: =D14*'Step 2 Budget Plan'!G26 -> 39.784564 | E19: 4 | F19: =D19/E19 -> 9.9461409 | G19: =F19/5 -> 1.9892282
B20: Jun | C20: =C14*'Step 2 Budget Plan'!G30 -> 107.65235 | D20: =D14*'Step 2 Budget Plan'!G30 -> 53.826174 | E20: 4 | F20: =D20/E20 -> 13.456544 | G20: =F20/5 -> 2.6913087
B21: Jul | C21: =C14*'Step 2 Budget Plan'!G34 -> 91.738523 | D21: =D14*'Step 2 Budget Plan'!G34 -> 45.869262 | E21: 4 | F21: =D21/E21 -> 11.467315 | G21: =F21/5 -> 2.2934631
B22: Aug | C22: =C14*'Step 2 Budget Plan'!G38 -> 74.888591 | D22: =D14*'Step 2 Budget Plan'!G38 -> 37.444295 | E22: 4 | F22: =D22/E22 -> 9.3610738 | G22: =F22/5 -> 1.8722148
B23: Sept | C23: =C14*'Step 2 Budget Plan'!G42 -> 44.933154 | D23: =D14*'Step 2 Budget Plan'!G42 -> 22.466577 | E23: 4 | F23: =D23/E23 -> 5.6166443 | G23: =F23/5 -> 1.1233289
B24: Oct | C24: =C14*'Step 2 Budget Plan'!G46 -> 42.124832 | D24: =D14*'Step 2 Budget Plan'!G46 -> 21.062416 | E24: 4 | F24: =D24/E24 -> 5.265604 | G24: =F24/5 -> 1.0531208
B25: Nov | C25: =C14*'Step 2 Budget Plan'!G50 -> 39.31651 | D25: =D14*'Step 2 Budget Plan'!G50 -> 19.658255 | E25: 4 | F25: =D25/E25 -> 4.9145638 | G25: =F25/5 -> 0.98291275
B26: Dec | C26: =C14*'Step 2 Budget Plan'!G54 -> 32.763758 | D26: =D14*'Step 2 Budget Plan'!G54 -> 16.381879 | E26: 4 | F26: =D26/E26 -> 4.0954698 | G26: =F26/5 -> 0.81909396
G27: * 5 days a week Saturdays free

Sheet Step 4 Price a Job
B1: Gross Profit Man Day / Crew Day
B2: @Larkin | C2: Fill in the data in the beige box
B4: ='Step 3 GPMD'!B4 -> 2350.1577 | C4: Est. Gross Profit Crew Day
B5: 3000 | C5: Gross Profit Crew Day
B6: 1 | C6: Days to Complete Job
B7: 750 | C7: Total Direct Labor
B8: 500 | C8: Materials Cost
B9: 5675 | C9: Equipment Cost
B10: 500 | C10: Financing cost
B11: 100 | C11: Permits
B12: 0 | C12: Subcontractors
B13: 800 | C13: Commission
B14: 200 | C14: Warranty Expenses
B15: =SUM(B7:B14) -> 8525 | C15: Total Cost of Goods Sold
B16: =B15+(('Step 2 Budget Plan'!D58/'Step 1 Capacity'!B20)/'Step 1 Capacity'!B6) -> 9264.7476 | C16: Breakeven
B17: =(B5*B6)+B7+B8+B9+B10+B11+B12+B13+B14 -> 11525 | C17: Sell Price

Sheet Overhead Calculator
A1: Gross Profit Man Day / Crew Day
A2: @Larkin | B2: Fill in the data in the beige box
A4: Overhead for Install Department (Cheat Sheet)
A6: 100000 | B6: Total Direct Labor Cost for the Company
A7: 35000 | B7: Total Direct Labor Cost for the Department
A8: =A7/A6 -> 0.35 | B8: % of Direct Labor for Install Department
A10: 30000 | B10: Total Overhead for the Company
A12: =A10*A8 -> 10500 | B12: Est. Overhead for the Department
